BEGIN:VCALENDAR
VERSION:2.0
PRODID:-//3nity.com//3nity CMS//EN
BEGIN:VEVENT
SUMMARY:WOF Bible Study
UID:2026-07-18-1208138@www.cfbc-nh.net
SEQUENCE:0
STATUS:CONFIRMED
DTSTART:20260519T100000
DTEND:20260519T100000
DTSTAMP:20161222T120000
DESCRIPTION:
URL:http://www.cfbc-nh.net
END:VEVENT
END:VCALENDAR
