BEGIN:VCALENDAR
VERSION:2.0
PRODID:-//3nity.com//3nity CMS//EN
BEGIN:VEVENT
SUMMARY:Bible Study and Prayer Meeting
UID:2026-07-18-1210061@www.cfbc-nh.net
SEQUENCE:0
STATUS:CONFIRMED
DTSTART:20260603T183000
DTEND:20260603T183000
DTSTAMP:20161222T120000
DESCRIPTION:
URL:http://www.cfbc-nh.net
END:VEVENT
END:VCALENDAR
